BEGIN:VCALENDAR
VERSION:2.0
PRODID:-//The Tilted Kiln - Pottery - ECPv6.15.20//NONSGML v1.0//EN
CALSCALE:GREGORIAN
METHOD:PUBLISH
X-ORIGINAL-URL:https://thetiltedkiln.com
X-WR-CALDESC:Events for The Tilted Kiln - Pottery
REFRESH-INTERVAL;VALUE=DURATION:PT1H
X-Robots-Tag:noindex
X-PUBLISHED-TTL:PT1H
BEGIN:VTIMEZONE
TZID:America/Denver
BEGIN:DAYLIGHT
TZOFFSETFROM:-0700
TZOFFSETTO:-0600
TZNAME:MDT
DTSTART:20250309T090000
END:DAYLIGHT
BEGIN:STANDARD
TZOFFSETFROM:-0600
TZOFFSETTO:-0700
TZNAME:MST
DTSTART:20251102T080000
END:STANDARD
BEGIN:DAYLIGHT
TZOFFSETFROM:-0700
TZOFFSETTO:-0600
TZNAME:MDT
DTSTART:20260308T090000
END:DAYLIGHT
BEGIN:STANDARD
TZOFFSETFROM:-0600
TZOFFSETTO:-0700
TZNAME:MST
DTSTART:20261101T080000
END:STANDARD
BEGIN:DAYLIGHT
TZOFFSETFROM:-0700
TZOFFSETTO:-0600
TZNAME:MDT
DTSTART:20270314T090000
END:DAYLIGHT
BEGIN:STANDARD
TZOFFSETFROM:-0600
TZOFFSETTO:-0700
TZNAME:MST
DTSTART:20271107T080000
END:STANDARD
END:VTIMEZONE
BEGIN:VEVENT
DTSTART;TZID=America/Denver:20260321T100000
DTEND;TZID=America/Denver:20260321T120000
DTSTAMP:20260422T032712
CREATED:20251231T002411Z
LAST-MODIFIED:20260311T031726Z
UID:10000454-1774087200-1774094400@thetiltedkiln.com
SUMMARY:General Throwing - March 21 - 10:00
DESCRIPTION:The General Throwing class is a 4 week course where students are taught according to their skill level. New students will learn the basics of centering\, opening\, lift\, trimming\, and glazing. Experienced potters will take their skills up a notch and gain more experience with new skills. \nCost: $175 per person \nSupplies & 5 day punch pass included
URL:https://thetiltedkiln.com/event/general-throwing-3-21-1000/
LOCATION:The Tilted Kiln – Pottery Studio\, 955 East Tabernacle Street\, Saint George\, UT\, 84770\, United States
CATEGORIES:Quentin
ATTACH;FMTTYPE=image/png:https://thetiltedkiln.com/wp-content/uploads/2024/01/4-Week-Class.png
ORGANIZER;CN="The Tilted Kiln":MAILTO:thetiltedkiln@gmail.com
END:VEVENT
BEGIN:VEVENT
DTSTART;TZID=America/Denver:20260327T180000
DTEND;TZID=America/Denver:20260327T200000
DTSTAMP:20260422T032712
CREATED:20251226T065631Z
LAST-MODIFIED:20260311T032500Z
UID:10000429-1774634400-1774641600@thetiltedkiln.com
SUMMARY:Hand Building Class - March 27 - 6:00
DESCRIPTION:In this class\, the student will focus on using their hands and other tools to create works or art. No Pottery wheel will be used. \nStudents will be learning techniques such as pinching\, coiling\, slabbing\, and other techniques to sculpt and connect clay. \nCost is $70 per class \nAll materials are included
URL:https://thetiltedkiln.com/event/hand-building-class-3-27-600/
LOCATION:The Tilted Kiln – Pottery Studio\, 955 East Tabernacle Street\, Saint George\, UT\, 84770\, United States
CATEGORIES:Ryder
ATTACH;FMTTYPE=image/png:https://thetiltedkiln.com/wp-content/uploads/2023/07/Copy-of-Handbuilding.png
ORGANIZER;CN="The Tilted Kiln":MAILTO:thetiltedkiln@gmail.com
END:VEVENT
BEGIN:VEVENT
DTSTART;TZID=America/Denver:20260330T180000
DTEND;TZID=America/Denver:20260330T200000
DTSTAMP:20260422T032712
CREATED:20251226T070852Z
LAST-MODIFIED:20260311T032848Z
UID:10000442-1774893600-1774900800@thetiltedkiln.com
SUMMARY:Give It A Whirl - March 30 - 6:00
DESCRIPTION:Our Give It A Whirl class is a 2 hour\, one time class. \nStudents learn the very basic beginning techniques of pottery made on a potter’s wheel. Centering\, opening\, and lifting will be the skills taught. Other advanced skills can be learned in our 4-week General Throwing class. \nYou will make several projects and pick 2 to have fired and glazed for later pick-up. You will get to select a color for those 2 projects to be glazed by The Tilted Kiln staff. While we do our best to make sure your creations make it through\, please be aware that not all projects survive both firing processes. \nProjects will be available for pick up approximately 4-6 weeks following class. We hold projects for at least 30 days after they come out of the final firing in the kiln. After 60 days your projects may be discarded.
URL:https://thetiltedkiln.com/event/give-it-a-whirl-3-30-600/
LOCATION:The Tilted Kiln – Pottery Studio\, 955 East Tabernacle Street\, Saint George\, UT\, 84770\, United States
CATEGORIES:Emmalani
ATTACH;FMTTYPE=image/png:https://thetiltedkiln.com/wp-content/uploads/2023/02/give-it-a-whirl-monday-the-tilted-kiln.png
ORGANIZER;CN="The Tilted Kiln":MAILTO:thetiltedkiln@gmail.com
END:VEVENT
END:VCALENDAR