BEGIN:VCALENDAR
VERSION:2.0
PRODID:-//The Tilted Kiln - Pottery - ECPv6.15.20//NONSGML v1.0//EN
CALSCALE:GREGORIAN
METHOD:PUBLISH
X-ORIGINAL-URL:https://thetiltedkiln.com
X-WR-CALDESC:Events for The Tilted Kiln - Pottery
REFRESH-INTERVAL;VALUE=DURATION:PT1H
X-Robots-Tag:noindex
X-PUBLISHED-TTL:PT1H
BEGIN:VTIMEZONE
TZID:America/Denver
BEGIN:DAYLIGHT
TZOFFSETFROM:-0700
TZOFFSETTO:-0600
TZNAME:MDT
DTSTART:20250309T090000
END:DAYLIGHT
BEGIN:STANDARD
TZOFFSETFROM:-0600
TZOFFSETTO:-0700
TZNAME:MST
DTSTART:20251102T080000
END:STANDARD
BEGIN:DAYLIGHT
TZOFFSETFROM:-0700
TZOFFSETTO:-0600
TZNAME:MDT
DTSTART:20260308T090000
END:DAYLIGHT
BEGIN:STANDARD
TZOFFSETFROM:-0600
TZOFFSETTO:-0700
TZNAME:MST
DTSTART:20261101T080000
END:STANDARD
BEGIN:DAYLIGHT
TZOFFSETFROM:-0700
TZOFFSETTO:-0600
TZNAME:MDT
DTSTART:20270314T090000
END:DAYLIGHT
BEGIN:STANDARD
TZOFFSETFROM:-0600
TZOFFSETTO:-0700
TZNAME:MST
DTSTART:20271107T080000
END:STANDARD
END:VTIMEZONE
BEGIN:VEVENT
DTSTART;TZID=America/Denver:20260406T180000
DTEND;TZID=America/Denver:20260406T200000
DTSTAMP:20260420T025416
CREATED:20251228T072053Z
LAST-MODIFIED:20260313T050643Z
UID:10000443-1775498400-1775505600@thetiltedkiln.com
SUMMARY:Give It A Whirl - April 6 - 6:00
DESCRIPTION:Our Give It A Whirl class is a 2 hour\, one time class. \nStudents learn the very basic beginning techniques of pottery made on a potter’s wheel. Centering\, opening\, and lifting will be the skills taught. Other advanced skills can be learned in our 4-week General Throwing class. \nYou will make several projects and pick 2 to have fired and glazed for later pick-up. You will get to select a color for those 2 projects to be glazed by The Tilted Kiln staff. While we do our best to make sure your creations make it through\, please be aware that not all projects survive both firing processes. \nProjects will be available for pick up approximately 4-6 weeks following class. We hold projects for at least 30 days after they come out of the final firing in the kiln. After 60 days your projects may be discarded.
URL:https://thetiltedkiln.com/event/give-it-a-whirl-4-6-600/
LOCATION:The Tilted Kiln – Pottery Studio\, 955 East Tabernacle Street\, Saint George\, UT\, 84770\, United States
CATEGORIES:Emmalani
ATTACH;FMTTYPE=image/png:https://thetiltedkiln.com/wp-content/uploads/2023/02/give-it-a-whirl-monday-the-tilted-kiln.png
ORGANIZER;CN="The Tilted Kiln":MAILTO:thetiltedkiln@gmail.com
END:VEVENT
BEGIN:VEVENT
DTSTART;TZID=America/Denver:20260409T150000
DTEND;TZID=America/Denver:20260409T170000
DTSTAMP:20260420T025416
CREATED:20251228T072211Z
LAST-MODIFIED:20260313T050704Z
UID:10000444-1775746800-1775754000@thetiltedkiln.com
SUMMARY:Give It A Whirl - April 9 - 3:00
DESCRIPTION:Our Give It A Whirl class is a 2 hour\, one time class. \nStudents learn the very basic beginning techniques of pottery made on a potter’s wheel. Centering\, opening\, and lifting will be the skills taught. Other advanced skills can be learned in our 4-week General Throwing class. \nYou will make several projects and pick 2 to have fired and glazed for later pick-up. You will get to select a color for those 2 projects to be glazed by The Tilted Kiln staff. While we do our best to make sure your creations make it through\, please be aware that not all projects survive both firing processes. \nProjects will be available for pick up approximately 4-6 weeks following class. We hold projects for at least 30 days after they come out of the final firing in the kiln. After 60 days your projects may be discarded.
URL:https://thetiltedkiln.com/event/give-it-a-whirl-4-9-300/
LOCATION:The Tilted Kiln – Pottery Studio\, 955 East Tabernacle Street\, Saint George\, UT\, 84770\, United States
CATEGORIES:Emmalani
ATTACH;FMTTYPE=image/png:https://thetiltedkiln.com/wp-content/uploads/2023/01/Copy-of-Kids-GIAW-4.png
ORGANIZER;CN="The Tilted Kiln":MAILTO:thetiltedkiln@gmail.com
END:VEVENT
END:VCALENDAR