BEGIN:VCALENDAR
VERSION:2.0
PRODID:-//The Tilted Kiln - Pottery - ECPv6.15.20//NONSGML v1.0//EN
CALSCALE:GREGORIAN
METHOD:PUBLISH
X-WR-CALNAME:The Tilted Kiln - Pottery
X-ORIGINAL-URL:https://thetiltedkiln.com
X-WR-CALDESC:Events for The Tilted Kiln - Pottery
REFRESH-INTERVAL;VALUE=DURATION:PT1H
X-Robots-Tag:noindex
X-PUBLISHED-TTL:PT1H
BEGIN:VTIMEZONE
TZID:America/Denver
BEGIN:DAYLIGHT
TZOFFSETFROM:-0700
TZOFFSETTO:-0600
TZNAME:MDT
DTSTART:20250309T090000
END:DAYLIGHT
BEGIN:STANDARD
TZOFFSETFROM:-0600
TZOFFSETTO:-0700
TZNAME:MST
DTSTART:20251102T080000
END:STANDARD
BEGIN:DAYLIGHT
TZOFFSETFROM:-0700
TZOFFSETTO:-0600
TZNAME:MDT
DTSTART:20260308T090000
END:DAYLIGHT
BEGIN:STANDARD
TZOFFSETFROM:-0600
TZOFFSETTO:-0700
TZNAME:MST
DTSTART:20261101T080000
END:STANDARD
BEGIN:DAYLIGHT
TZOFFSETFROM:-0700
TZOFFSETTO:-0600
TZNAME:MDT
DTSTART:20270314T090000
END:DAYLIGHT
BEGIN:STANDARD
TZOFFSETFROM:-0600
TZOFFSETTO:-0700
TZNAME:MST
DTSTART:20271107T080000
END:STANDARD
END:VTIMEZONE
BEGIN:VEVENT
DTSTART;TZID=America/Denver:20260330T180000
DTEND;TZID=America/Denver:20260330T200000
DTSTAMP:20260420T023616
CREATED:20251226T070852Z
LAST-MODIFIED:20260311T032848Z
UID:10000442-1774893600-1774900800@thetiltedkiln.com
SUMMARY:Give It A Whirl - March 30 - 6:00
DESCRIPTION:Our Give It A Whirl class is a 2 hour\, one time class. \nStudents learn the very basic beginning techniques of pottery made on a potter’s wheel. Centering\, opening\, and lifting will be the skills taught. Other advanced skills can be learned in our 4-week General Throwing class. \nYou will make several projects and pick 2 to have fired and glazed for later pick-up. You will get to select a color for those 2 projects to be glazed by The Tilted Kiln staff. While we do our best to make sure your creations make it through\, please be aware that not all projects survive both firing processes. \nProjects will be available for pick up approximately 4-6 weeks following class. We hold projects for at least 30 days after they come out of the final firing in the kiln. After 60 days your projects may be discarded.
URL:https://thetiltedkiln.com/event/give-it-a-whirl-3-30-600/
LOCATION:The Tilted Kiln – Pottery Studio\, 955 East Tabernacle Street\, Saint George\, UT\, 84770\, United States
CATEGORIES:Emmalani
ATTACH;FMTTYPE=image/png:https://thetiltedkiln.com/wp-content/uploads/2023/02/give-it-a-whirl-monday-the-tilted-kiln.png
ORGANIZER;CN="The Tilted Kiln":MAILTO:thetiltedkiln@gmail.com
END:VEVENT
BEGIN:VEVENT
DTSTART;TZID=America/Denver:20260402T100000
DTEND;TZID=America/Denver:20260402T113000
DTSTAMP:20260420T023616
CREATED:20251214T034019Z
LAST-MODIFIED:20260313T050007Z
UID:10000366-1775124000-1775129400@thetiltedkiln.com
SUMMARY:Kids Spring Session B - Hand Building Only - April 2 - 10:00
DESCRIPTION:SESSION B – April & May \nStudents will learn basic skills and techniques of hand built pottery throughout 8 weeks of classes. Coils\, slabs\, and pinch will be the main focus with some glazing and carving. \nClasses will be 90 minutes and held every week for 8 weeks\, beginning April 2\, 2026 \nClass Dates – April 2\, 9\, 16\, 23\, 30 May 7\, 14\, 21 \nCost: all 8 weeks – $240 (paid online)\, single week – $40 (paid at studio before class)
URL:https://thetiltedkiln.com/event/kids-spring-session-b-hand-building-only-4-2-1000/
LOCATION:The Tilted Kiln – Pottery Studio\, 955 East Tabernacle Street\, Saint George\, UT\, 84770\, United States
CATEGORIES:Emmalani
ATTACH;FMTTYPE=image/png:https://thetiltedkiln.com/wp-content/uploads/2025/12/Kids-Pottery-Class-all.png
ORGANIZER;CN="The Tilted Kiln":MAILTO:thetiltedkiln@gmail.com
END:VEVENT
BEGIN:VEVENT
DTSTART;TZID=America/Denver:20260402T150000
DTEND;TZID=America/Denver:20260402T170000
DTSTAMP:20260420T023616
CREATED:20251226T070949Z
LAST-MODIFIED:20260313T050050Z
UID:10000441-1775142000-1775149200@thetiltedkiln.com
SUMMARY:Give It A Whirl - April 2 - 3:00
DESCRIPTION:Our Give It A Whirl class is a 2 hour\, one time class. \nStudents learn the very basic beginning techniques of pottery made on a potter’s wheel. Centering\, opening\, and lifting will be the skills taught. Other advanced skills can be learned in our 4-week General Throwing class. \nYou will make several projects and pick 2 to have fired and glazed for later pick-up. You will get to select a color for those 2 projects to be glazed by The Tilted Kiln staff. While we do our best to make sure your creations make it through\, please be aware that not all projects survive both firing processes. \nProjects will be available for pick up approximately 4-6 weeks following class. We hold projects for at least 30 days after they come out of the final firing in the kiln. After 60 days your projects may be discarded.
URL:https://thetiltedkiln.com/event/give-it-a-whirl-4-2-300/
LOCATION:The Tilted Kiln – Pottery Studio\, 955 East Tabernacle Street\, Saint George\, UT\, 84770\, United States
CATEGORIES:Emmalani
ATTACH;FMTTYPE=image/png:https://thetiltedkiln.com/wp-content/uploads/2023/01/Copy-of-Kids-GIAW-4.png
ORGANIZER;CN="The Tilted Kiln":MAILTO:thetiltedkiln@gmail.com
END:VEVENT
END:VCALENDAR